BEGIN:VCALENDAR
VERSION:2.0
PRODID:-//Centro de Información de la ONU - ECPv6.15.20//NONSGML v1.0//EN
CALSCALE:GREGORIAN
METHOD:PUBLISH
X-WR-CALNAME:Centro de Información de la ONU
X-ORIGINAL-URL:https://www.cinu.mx
X-WR-CALDESC:Eventos para Centro de Información de la ONU
REFRESH-INTERVAL;VALUE=DURATION:PT1H
X-Robots-Tag:noindex
X-PUBLISHED-TTL:PT1H
BEGIN:VTIMEZONE
TZID:America/Mexico_City
BEGIN:STANDARD
TZOFFSETFROM:-0600
TZOFFSETTO:-0600
TZNAME:CST
DTSTART:20250101T000000
END:STANDARD
END:VTIMEZONE
BEGIN:VEVENT
DTSTART;TZID=America/Mexico_City:20260127T080000
DTEND;TZID=America/Mexico_City:20260128T170000
DTSTAMP:20260419T082758
CREATED:20250731T185552Z
LAST-MODIFIED:20250925T181619Z
UID:29907-1769500800-1769619600@www.cinu.mx
SUMMARY:Modelo ONU IPEFH MUN 2026
DESCRIPTION:Instituto Profesional en la Enseñanza y Formación Humana (IPEFH) Plantel Toluca \n\n\n\nInstituto Calimaya\, Plantel Calimaya \n\n\n\nIPEFH Bicentenario\, Plantel Aeropuerto \n\n\n\nNivel académico: 6 año de Primaria\, Secundaria y Preparatoria. \n\n\n\nComités:  \n\n\n\n12 comités (por definir) \n\n\n\nContacto: Mtra. Mónica Orozco Santos  \n\n\n\nCorreo electrónico: monsantos@ipefh.edu.mx \n\n\n\nCosto: Por confirmar. 
URL:https://www.cinu.mx/evento/modelo-onu-ipefh-mun/
LOCATION:Instituto Profesional de Educación Física y Deportes\, Av. Adolfo López Mateos 1507\, Miguel Hidalgo\, 50100\, Mexico
CATEGORIES:Modelos ONU
ATTACH;FMTTYPE=image/png:https://www.cinu.mx/wp-content/uploads/2025/07/Captura-de-pantalla-2025-07-31-125311.png
END:VEVENT
END:VCALENDAR