BEGIN:VCALENDAR
VERSION:2.0
PRODID:-//Centro de Información de la ONU - ECPv6.15.20//NONSGML v1.0//EN
CALSCALE:GREGORIAN
METHOD:PUBLISH
X-ORIGINAL-URL:https://www.cinu.mx
X-WR-CALDESC:Eventos para Centro de Información de la ONU
REFRESH-INTERVAL;VALUE=DURATION:PT1H
X-Robots-Tag:noindex
X-PUBLISHED-TTL:PT1H
BEGIN:VTIMEZONE
TZID:America/Mexico_City
BEGIN:DAYLIGHT
TZOFFSETFROM:-0600
TZOFFSETTO:-0500
TZNAME:CDT
DTSTART:20210404T080000
END:DAYLIGHT
BEGIN:STANDARD
TZOFFSETFROM:-0500
TZOFFSETTO:-0600
TZNAME:CST
DTSTART:20211031T070000
END:STANDARD
BEGIN:DAYLIGHT
TZOFFSETFROM:-0600
TZOFFSETTO:-0500
TZNAME:CDT
DTSTART:20220403T080000
END:DAYLIGHT
BEGIN:STANDARD
TZOFFSETFROM:-0500
TZOFFSETTO:-0600
TZNAME:CST
DTSTART:20221030T070000
END:STANDARD
END:VTIMEZONE
BEGIN:VEVENT
DTSTART;TZID=America/Mexico_City:20220429T085000
DTEND;TZID=America/Mexico_City:20220430T135000
DTSTAMP:20260421T082951
CREATED:20220428T195321Z
LAST-MODIFIED:20220428T195911Z
UID:28296-1651222200-1651326600@www.cinu.mx
SUMMARY:Modelo ONU: UNCTEC 2022
DESCRIPTION:United Nations Conferences at Tecnológico de Monterrey – Campus Cuernavaca. \n\n\n\nNivel Académico: Secundaria\, Preparatoria y Universidad. \n\n\n\nComités: \n\n\n\n1.- Asamblea General en su Primera Comisión sobre Desarme y Seguridad Internacional. 2.- General Assembly – United Nations Environment Assembly (UNEA). \n\n\n\n3.- Consejo de Seguridad (CS). 4.- Security Council (SC). \n\n\n\n5.- Economic and Social Council (ECOSOC). 6.- Consejo Económico y Social a través de su Comisión de Desarrollo Social (ECOSOC – CDS). \n\n\n\n7.- Consejo Económico y Social en su Comisión de la Condición Jurídica y Social de la Mujer (ECOSOC – CCJSM).  \n\n\n\n8.- Asamblea Mundial de la Salud de la Organización Mundial de la Salud (A-OMS). 9.- Consejo de Derechos Humanos (CDH). \n\n\n\n10.- Organización Internacional del Trabajo (OIT). \n\n\n\nContacto: Alejandra Deni Yagüe Garduño  \n\n\n\nE-mail: cva.untec@gmail.com y alejandra.yg@tec.mx   \n\n\n\nPágina Web del Modelo: https://sites.google.com/tec.mx/unctec-2022/inicio 
URL:https://www.cinu.mx/evento/modelo-onu-unctec-2022/
LOCATION:ITESM Campus Cuernavaca\, Autopista del Sol km 104\, Colonia Real del Puente\, Xochitepec\, Morelos\, 62790\, Mexico
CATEGORIES:Modelos ONU
ATTACH;FMTTYPE=image/jpeg:https://www.cinu.mx/wp-content/uploads/2022/04/Captura-web_28-4-2022_143233_sites.google.com_.jpeg
ORGANIZER;CN="ITESM Campus Cuernavaca":MAILTO:academica.unctec@deapcomx.com
END:VEVENT
END:VCALENDAR